BEGIN:VCALENDAR
VERSION:2.0
PRODID:-//wp-events-plugin.com//7.2.3.1//EN
BEGIN:VEVENT
UID:e2fb186d-0500-43a4-9b4f-8cf551963502
DTSTART:20190628T160000Z
DTEND:20190628T170000Z
DTSTAMP:20190513T094100Z
SUMMARY:Story Walk in the Woods
X-FBF-PRICE:0
X-FBF-CON-PRICE:
X-FBF-CHILD-PRICE:
X-FBF-EVENT-CAPACITY:100
X-FBF-BOOKING-URL:
DESCRIPTION:If you go down to the woods today\, be sure of a big surprise ......\nThere's stories of squirrels\, of foxes and owls\, You'll hardly believe your eyes \nStory walk for ages 5 - 8 &amp\; parents.\n\nMeet story teller Elly Crichton Stuart in the car park at the entry to The Grove Woodland\n\nThis event is part of our free-of-charge pop up events - no need to book\, just show up and enjoy!
LOCATION:The Grove Woodlands\, Grove Road\, Felixstowe\, IP11 9GA\, United Kingdom
URL:https://felixstowebookfestival.co.uk/events/pu1
END:VEVENT
END:VCALENDAR