BEGIN:VCALENDAR
VERSION:2.0
PRODID:-//wp-events-plugin.com//7.2.3.1//EN
BEGIN:VEVENT
UID:6daf5c79-2e8a-43b1-a52d-2f29117c327d
DTSTART:20260628T133000Z
DTEND:20260628T143000Z
DTSTAMP:20260331T062911Z
SUMMARY:Robin Ince Let the Quiet Ones Rise - poems about standing up and standing out
X-FBF-PRICE:12.00
X-FBF-CON-PRICE:10.00
X-FBF-CHILD-PRICE:
X-FBF-EVENT-CAPACITY:110
X-FBF-BOOKING-URL:https://www.ticketsource.co.uk/booking/t-qmmxoqa
DESCRIPTION:An hour of stories and poems from our Festival Patron\, looking at how to be a better ally\, how to fit in the world and be authentically you with perhaps a story or two about why Robin had to break his own heart and resign from the show he loved\, The Infinite Monkey Cage.\n\nLet the Quiet Ones Rise explores themes of standing up against injustice\, advocacy for\nmarginalised communities\, and embracing individuality.\n\n[gallery ids="14994\,14995"]
LOCATION:Harvest House\, Cobbold Road\, FELIXSTOWE\, IP11 7SP\, United Kingdom
URL:https://felixstowebookfestival.co.uk/events/robin-ince-let-the-quiet-ones-rise-poems-about-standing-up-and-standing-out
END:VEVENT
END:VCALENDAR