BEGIN:VCALENDAR
VERSION:2.0
PRODID:-//wp-events-plugin.com//7.2.3.1//EN
BEGIN:VEVENT
UID:8dc1921f-6d31-458d-b00e-700d31097f4b
DTSTART:20260628T163000Z
DTEND:20260628T173000Z
DTSTAMP:20260331T063413Z
SUMMARY:Ruth Dugdall The Cate Austin crime series
X-FBF-PRICE:12.00
X-FBF-CON-PRICE:10.00
X-FBF-CHILD-PRICE:
X-FBF-EVENT-CAPACITY:110
X-FBF-BOOKING-URL:https://www.ticketsource.co.uk/booking/t-rzzrvym
DESCRIPTION:Cate Austin is a probation officer\, juggling the demands of the job with being a single mum.\nThe six-book series\, set in and around Felixstowe\, raises questions of justice and redemption from a unique perspective.\n\nRuth will share with us Cate's journey - and her own - at this special 'homecoming' event to celebrate the re-launch of the series in the town where it was written. Authentic Storytelling from a Suffolk-Based Novelist and Screenwriter.\n\nRuth explains\, “Locations matter to me\, they are the backdrop to the world I’m creating. Most of my writing is set in Suffolk\, but I’ve also lived in Luxembourg and California so both have influenced me\, and found their way into my plots.\n\nAs an ex-probation officer\, I am naturally drawn to crime narratives\, but from a perspective not usually seen in novels or on the screen. The probation officer exists at the most delicate places within the Criminal Justice System\, sentencing &amp\; release\, and I aim to show the challenges probation officers face daily through my protagonist Cate Austin.”\n\nIn conversation with Georgy Jamieson\n\n[gallery ids="14997\,15022"]
LOCATION:Harvest House\, Cobbold Road\, FELIXSTOWE\, IP11 7SP\, United Kingdom
URL:https://felixstowebookfestival.co.uk/events/ruth-dugdall-the-cate-austin-crime-series
END:VEVENT
END:VCALENDAR