BEGIN:VCALENDAR
VERSION:2.0
PRODID:-//wp-events-plugin.com//7.2.3.1//EN
BEGIN:VEVENT
UID:ec1f230d-c31e-4ec3-9d3a-4c8caac37375
DTSTART:20260627T173000Z
DTEND:20260627T183000Z
DTSTAMP:20260331T062459Z
SUMMARY:Sarah Vaughan Based On A True Story
X-FBF-PRICE:12.00
X-FBF-CON-PRICE:10.00
X-FBF-CHILD-PRICE:
X-FBF-EVENT-CAPACITY:110
X-FBF-BOOKING-URL:https://www.ticketsource.co.uk/booking/t-njjyepe
DESCRIPTION:The gripping new suspense novel from the bestselling author of 'Anatomy of a Scandal'\,\nA compelling novel about power\, money and lies - A lavish 70th birthday party\; a body found on a storm-lashed beach and a secret that someone is dying to tell...\nFamed children’s author Dame Eleanor Kingman has summoned her family and friends to her exquisite manor house on the cliffs. They're celebrating her birthday – and her latest number one bestseller. A TV crew has arrived to film a documentary of her life. But the night before the party\, Eleanor receives an email that threatens to expose the lie she’s kept up for over half a century.\nEleanor needs to find out who sent the email – and preserve her multimillion-pound career.\n\nIn conversation with Ruth Dugdall\n\n[gallery ids="14968\,14969"]
LOCATION:Harvest House\, Cobbold Road\, FELIXSTOWE\, IP11 7SP\, United Kingdom
URL:https://felixstowebookfestival.co.uk/events/sarah-vaughan-based-on-a-true-story
END:VEVENT
END:VCALENDAR