BEGIN:VCALENDAR
VERSION:2.0
PRODID:-//wp-events-plugin.com//7.2.3.1//EN
BEGIN:VEVENT
UID:b192d02c-cce5-4c4d-901b-6819e1a67387
DTSTART:20260627T130000Z
DTEND:20260627T140000Z
DTSTAMP:20260331T062031Z
SUMMARY:Simon Barnes How to Fly: Taking Wing with Birds\, Bats\, Insects and Humans
X-FBF-PRICE:12.00
X-FBF-CON-PRICE:10.00
X-FBF-CHILD-PRICE:
X-FBF-EVENT-CAPACITY:110
X-FBF-BOOKING-URL:https://www.ticketsource.co.uk/booking/t-vxxpdyv
DESCRIPTION:This book brings together all aspects of aerial life- evolution\, technology\, religion\, nature and imagination- in a celebration of the wonders of flight.\nA unique and all-encompassing exploration of flight and the way various species\, including humans\, have evolved different solutions to the problem of defying gravity.\nFlight fascinates us. We thrill to birds\, we adore butterflies\, we’re baffled by bats and we can hardly believe in pterodactyls. We worship angels and we compare love\, religious ecstasy and artistic achievement to flight. We love the idea of flight so much we invented machines that at last allowed us to fly. Many died to make human flight possible.\nIn How to Fly\, bestselling writer Simon Barnes brings together all aspects of aerial life – evolution\, technology\, mythology\, religion\, nature and imagination – in a celebration of the wonders of flight.\nSweeping in scope and packed with fresh insights\, How to Fly is a book that sets free the eagle within us all.\n\n[gallery ids="14958\,14959"]\n\n&nbsp\;
LOCATION:Harvest House\, Cobbold Road\, FELIXSTOWE\, IP11 7SP\, United Kingdom
URL:https://felixstowebookfestival.co.uk/events/simon-barnes-how-to-fly-taking-wing-with-birds-bats-insects-and-humans
END:VEVENT
END:VCALENDAR