BEGIN:VCALENDAR
VERSION:2.0
PRODID:-//wp-events-plugin.com//7.2.3.1//EN
BEGIN:VEVENT
UID:6711a709-cfb3-4181-a5a4-a64a27abf392
DTSTART:20260627T160000Z
DTEND:20260627T170000Z
DTSTAMP:20260331T062335Z
SUMMARY:Sir Terry Waite KCMG CBE
X-FBF-PRICE:12.00
X-FBF-CON-PRICE:10.00
X-FBF-CHILD-PRICE:
X-FBF-EVENT-CAPACITY:40
X-FBF-BOOKING-URL:https://www.ticketsource.co.uk/booking/t-lddzrqa
DESCRIPTION:Our Festival Patron discusses his life’s work.\nAs a British human rights activist and author we are thrilled that Sir Terry is also one of our Festival Patrons.\nHe was the Assistant for Anglican Communion Affairs for the then Archbishop of Canterbury\, Robert Runcie\, in the 1980s. As an envoy for the Church of England\, he travelled to Lebanon to try to secure the release of four hostages\, which included the journalist John McCarthy. Terry was then kidnapped and held captive from 1987 to 1991.\n\nAfter his release he wrote Taken on Trust\, a memoir about his experiences as a hostage\, published in 1994. Since that time he has not only became involved in humanitarian causes and charitable work\, he also willingly travelled back to Lebanon to be reunited with his captors.\n\nIn conversation with Rachel Sloane\n\n[gallery ids="14473"]
LOCATION:Harvest House\, Cobbold Road\, FELIXSTOWE\, IP11 7SP\, United Kingdom
URL:https://felixstowebookfestival.co.uk/events/sir-terry-waite-kcmg-cbe
END:VEVENT
END:VCALENDAR