BEGIN:VCALENDAR
VERSION:2.0
PRODID:-//wp-events-plugin.com//7.2.3.1//EN
BEGIN:VEVENT
UID:6bdfbf6a-1a77-4fa6-8270-793c5d02f52b
DTSTART:20230618T103000Z
DTEND:20230618T120000Z
DTSTAMP:20230607T190345Z
SUMMARY:Teaching Pets to Play Football with James Campbell and Rob Jones
X-FBF-PRICE:5
X-FBF-CON-PRICE:
X-FBF-CHILD-PRICE:5
X-FBF-EVENT-CAPACITY:30
X-FBF-BOOKING-URL:
DESCRIPTION:Author (James Campbell) and Illustrator (Rob Jones) of the wonderful Funny Life books will show you how to come up with amazing ideas for characters and scenarios and then get them onto paper as hilarious pictures. Drawing and writing materials provided.  Bring a photo of your pet if you have one or your teacher if you don't.\n\nIncludes bookselling and signing\n\nAges 6-10\n\nAccompanying adults free\n\n\n\n\n&nbsp\;\n\n\n\n\n\nJames has appeared at many festivals at home and abroad and visited a huge array of schools inspiring children to write and be more creative. As well as The Funny Life books he has written a series about the character Boyface.  Rob has written and illustrated Bernard which won the People's Book Prize\, Where's Brian's Bottom? and Tickling Tilly. He illustrated all The Funny Life books.\n\nThe Funny Life of Football is winner of the Sunday Times Children's Sports Book Prize 2023.
LOCATION:Felixstowe Library\, Crescent Road\, Felixstowe\, Suffolk\, United Kingdom
URL:https://felixstowebookfestival.co.uk/events/teaching-pets-to-play-football-with-james-campbell-and-rob-jones
END:VEVENT
END:VCALENDAR