BEGIN:VCALENDAR
VERSION:2.0
PRODID:-//wp-events-plugin.com//7.2.3.1//EN
BEGIN:VEVENT
UID:4f7727d5-8eda-4f1e-abfd-c99bb8738c95
DTSTART:20230624T113000Z
DTEND:20230624T123000Z
DTSTAMP:20230331T170547Z
SUMMARY:The Hidden History of Women's Writing with Ana Sampson
X-FBF-PRICE:8
X-FBF-CON-PRICE:4 (11-25)
X-FBF-CHILD-PRICE:4
X-FBF-EVENT-CAPACITY:
X-FBF-BOOKING-URL:
DESCRIPTION:Adults £8    11-25  £4\n\n\n\n\nSuitable for ages 11- adult\n\nDo you ever look at lists of ‘classic’ books and wonder… where are all the women? Look no further than poetry anthologist Ana Sampson\, who examines the history of women’s writing in more detail. Join Ana for a fascinating discussion\, looking at female literary gems who didn’t make the bookish big time purely because of their gender\, alongside other fabulous female writers who managed to buck the trend. Ana will take us on a journey through history\, bringing us up to speed with the most influential female writers of the current moment\, all of whom are celebrated in her brilliant anthologies\, She is Fierce and She Will Soar.\n\n\n\n\n\n&nbsp\;
LOCATION:Felixstowe Library\, Crescent Road\, Felixstowe\, Suffolk\, United Kingdom
URL:https://felixstowebookfestival.co.uk/events/the-hidden-history-of-womens-writing-with-ana-sampson
END:VEVENT
END:VCALENDAR