BEGIN:VCALENDAR
VERSION:2.0
PRODID:-//wp-events-plugin.com//7.2.3.1//EN
BEGIN:VEVENT
UID:437a39ce-5733-4b5c-80ae-085bd23db2ca
DTSTART:20260628T163000Z
DTEND:20260628T173000Z
DTSTAMP:20260331T063501Z
SUMMARY:Will Stone Conversations With Rilke by Maurice Betz translated by Will Stone
X-FBF-PRICE:12.00
X-FBF-CON-PRICE:10.00
X-FBF-CHILD-PRICE:
X-FBF-EVENT-CAPACITY:40
X-FBF-BOOKING-URL:https://www.ticketsource.co.uk/booking/t-vxxpgge
DESCRIPTION:An intimate portrait of Rainer Maria Rilke's life and art in interwar Paris\, which offers unparalleled insight into the creative process of one of the great literary minds of the twentieth century. This book coincides with the centenary of Rilke's death in 2026.\n\nWalking in the Luxembourg Gardens\, describing encounters with enigmatic diva Eleonora Duse or an irascible Tolstoy\; Rainer Maria Rilke's French translator Maurice Betz enjoyed a rare intimacy with the great poet. This account of their collaborative translation of Rilke's only novel brings the reader along on a tour of the glittering cultural scene of interwar Paris.\nAn elegant\, poignant look at the great writer's final years\, Betz's memoir\, sensitively translated by Will Stone\, is a portrait of genius\, an evocation of a lost world\, and a testament to enduring friendship.\n\nMaurice Betz (1898-1946)\, as well as writing poetry and novels\, was a prolific translator of Friedrich Nietzsche\, Stefan Zweig and Thomas Mann. He worked closely with Rilke on the French translations of his works.\n\nWill Stone is a poet\, essayist and literary translator of French\, Franco-Belgian and German literature. His previous translations include Rilke in Paris\, also by Maurice Betz\, several works by Stefan Zweig\, and poems by Georg Trakl and Rainer Maria Rilke.\n\nIn conversation with FBF guest interviewer Wendy Jones\nWendy is the author of seven books\, including the bestselling Grayson Perry\, Portrait of the Artist as a Young Girl and Utterly lazy and Inattentive: Martin Parr in Words and Pictures. She has a PhD from Goldsmiths on writing interview-based biographies\, and her books have been published in eleven languages.\n\n[gallery ids="15012\,15013"]
LOCATION:Harvest House\, Cobbold Road\, FELIXSTOWE\, IP11 7SP\, United Kingdom
URL:https://felixstowebookfestival.co.uk/events/will-stone-conversations-with-rilke-by-maurice-betz-translated-by-will-stone
END:VEVENT
END:VCALENDAR